Workbook

Sheet Stavební_rozpočet
A1: Slepý stavební rozpočet
A2: Název stavby: | C2: Oprava komunikace ulice Husova a Ruských zajatců | E2: Doba výstavby: | H2: Objednatel: | I2: Obec Louka u Litvínova
A4: Druh stavby: | E4: Začátek výstavby: | H4: Projektant: | I4: CHEMINVEST s.r.o.
A6: Lokalita: | C6: Louka u Litvínova | E6: Konec výstavby: | H6: Zhotovitel:
A8: JKSO: | E8: Zpracováno dne: | G8: 25.02.2019 | H8: Zpracoval: | I8: Kamila Možná
A10: Č | B10: Kód | C10: Zkrácený popis | F10: M.j. | G10: Množství | H10: Jednot. | I10: Náklady (Kč) | L10: Cenová
C11: Rozměry | H11: cena (Kč) | I11: Dodávka | J11: Montáž | K11: Celkem | L11: soustava | Z11: Přesuny | AA11: Typ skupiny | AB11: HSV mat | AC11: HSV prac | AD11: PSV mat | AE11: PSV prac | AF11: Mont mat | AG11: Mont prac | AH11: Ostatní mat. | BH11: MAT | BI11: WORK | BJ11: CELK
B12: 11 | C12: Přípravné a přidružené práce | I12: =SUM(I13:I13) -> 0 | J12: =SUM(J13:J13) -> 0 | K12: =SUM(K13:K13) -> 0 | AS12: =SUM(AJ13:AJ13) -> 0 | AT12: =SUM(AK13:AK13) -> 0 | AU12: =SUM(AL13:AL13) -> 0
A13: 1 | B13: 113151214R00 | C13: Fréz.živič.krytu nad 500 m2, bez překážek, tl.4 cm | F13: m2 | G13: 5354 | H13: 0 | I13: =G13*AO13 -> 0 | J13: =G13*AP13 -> 0 | K13: =G13*H13 -> 0 | L13: RTS II / 2018 | Z13: =IF(AQ13="5",BJ13,0) -> 0 | AB13: =IF(AQ13="1",BH13,0) -> 0 | AC13: =IF(AQ13="1",BI13,0) -> 0 | AD13: =IF(AQ13="7",BH13,0) -> 0 | AE13: =IF(AQ13="7",BI13,0) -> 0 | AF13: =IF(AQ13="2",BH13,0) -> 0 | AG13: =IF(AQ13="2",BI13,0) -> 0 | AH13: =IF(AQ13="0",BJ13,0) -> 0 | AJ13: =IF(AN13=0,K13,0) -> 0 | AK13: =IF(AN13=15,K13,0) -> 0 | AL13: =IF(AN13=21,K13,0) -> 0 | AN13: 21 | AO13: =H13*0 -> 0 | AP13: =H13*(1-0) -> 0 | AQ13: 1 | AV13: =AW13+AX13 -> 0 | AW13: =G13*AO13 -> 0 | AX13: =G13*AP13 -> 0 | AY13: 11_ | AZ13: 1_ | BA13: _ | BC13: =AW13+AX13 -> 0 | BD13: =H13/(100-BE13)*100 -> 0 | BE13: 0 | BF13: =13 -> 13 | BH13: =G13*AO13 -> 0 | BI13: =G13*AP13 -> 0 | BJ13: =G13*H13 -> 0
C14: 5354;celková plocha; | G14: 5354
B15: 57 | C15: Kryty pozemních komunikací, letišť a ploch z kameniva nebo živičné | I15: =SUM(I16:I20) -> 0 | J15: =SUM(J16:J20) -> 0 | K15: =SUM(K16:K20) -> 0 | AS15: =SUM(AJ16:AJ20) -> 0 | AT15: =SUM(AK16:AK20) -> 0 | AU15: =SUM(AL16:AL20) -> 0
A16: 2 | B16: 572731111R00 | C16: Případné vyspravení výtluků krytů asf. recyklátem | F16: m2 | G16: 2000 | H16: 0 | I16: =G16*AO16 -> 0 | J16: =G16*AP16 -> 0 | K16: =G16*H16 -> 0 | L16: RTS II / 2018 | Z16: =IF(AQ16="5",BJ16,0) -> 0 | AB16: =IF(AQ16="1",BH16,0) -> 0 | AC16: =IF(AQ16="1",BI16,0) -> 0 | AD16: =IF(AQ16="7",BH16,0) -> 0 | AE16: =IF(AQ16="7",BI16,0) -> 0 | AF16: =IF(AQ16="2",BH16,0) -> 0 | AG16: =IF(AQ16="2",BI16,0) -> 0 | AH16: =IF(AQ16="0",BJ16,0) -> 0 | AJ16: =IF(AN16=0,K16,0) -> 0 | AK16: =IF(AN16=15,K16,0) -> 0 | AL16: =IF(AN16=21,K16,0) -> 0 | AN16: 21 | AO16: =H16*0.4412168 -> 0 | AP16: =H16*(1-0.4412168) -> 0 | AQ16: 1 | AV16: =AW16+AX16 -> 0 | AW16: =G16*AO16 -> 0 | AX16: =G16*AP16 -> 0 | AY16: 57_ | AZ16: 5_ | BA16: _ | BC16: =AW16+AX16 -> 0 | BD16: =H16/(100-BE16)*100 -> 0 | BE16: 0 | BF16: =16 -> 16 | BH16: =G16*AO16 -> 0 | BI16: =G16*AP16 -> 0 | BJ16: =G16*H16 -> 0
C17: 1;případné vyspravení výtluků krytů asf. recyklátem; | G17: 2000
A18: 3 | B18: 573211112R00 | C18: Postřik spojovací emulzní PS-C 0,35 kg/m2 | F18: m2 | G18: 5354 | H18: 0 | I18: =G18*AO18 -> 0 | J18: =G18*AP18 -> 0 | K18: =G18*H18 -> 0 | L18: RTS II / 2018 | Z18: =IF(AQ18="5",BJ18,0) -> 0 | AB18: =IF(AQ18="1",BH18,0) -> 0 | AC18: =IF(AQ18="1",BI18,0) -> 0 | AD18: =IF(AQ18="7",BH18,0) -> 0 | AE18: =IF(AQ18="7",BI18,0) -> 0 | AF18: =IF(AQ18="2",BH18,0) -> 0 | AG18: =IF(AQ18="2",BI18,0) -> 0 | AH18: =IF(AQ18="0",BJ18,0) -> 0 | AJ18: =IF(AN18=0,K18,0) -> 0 | AK18: =IF(AN18=15,K18,0) -> 0 | AL18: =IF(AN18=21,K18,0) -> 0 | AN18: 21 | AO18: =H18*0.858108108108108 -> 0 | AP18: =H18*(1-0.858108108108108) -> 0 | AQ18: 1 | AV18: =AW18+AX18 -> 0 | AW18: =G18*AO18 -> 0 | AX18: =G18*AP18 -> 0 | AY18: 57_ | AZ18: 5_ | BA18: _ | BC18: =AW18+AX18 -> 0 | BD18: =H18/(100-BE18)*100 -> 0 | BE18: 0 | BF18: =18 -> 18 | BH18: =G18*AO18 -> 0 | BI18: =G18*AP18 -> 0 | BJ18: =G18*H18 -> 0
C19: 5354;celková plocha; | G19: 5354
A20: 4 | B20: 577112123R00 | C20: Beton asfalt. ACO 11 S modifik. š.nad 3 m, tl.4 cm | F20: m2 | G20: 5354 | H20: 0 | I20: =G20*AO20 -> 0 | J20: =G20*AP20 -> 0 | K20: =G20*H20 -> 0 | L20: RTS II / 2018 | Z20: =IF(AQ20="5",BJ20,0) -> 0 | AB20: =IF(AQ20="1",BH20,0) -> 0 | AC20: =IF(AQ20="1",BI20,0) -> 0 | AD20: =IF(AQ20="7",BH20,0) -> 0 | AE20: =IF(AQ20="7",BI20,0) -> 0 | AF20: =IF(AQ20="2",BH20,0) -> 0 | AG20: =IF(AQ20="2",BI20,0) -> 0 | AH20: =IF(AQ20="0",BJ20,0) -> 0 | AJ20: =IF(AN20=0,K20,0) -> 0 | AK20: =IF(AN20=15,K20,0) -> 0 | AL20: =IF(AN20=21,K20,0) -> 0 | AN20: 21 | AO20: =H20*0.924007285974499 -> 0 | AP20: =H20*(1-0.924007285974499) -> 0 | AQ20: 1 | AV20: =AW20+AX20 -> 0 | AW20: =G20*AO20 -> 0 | AX20: =G20*AP20 -> 0 | AY20: 57_ | AZ20: 5_ | BA20: _ | BC20: =AW20+AX20 -> 0 | BD20: =H20/(100-BE20)*100 -> 0 | BE20: 0 | BF20: =20 -> 20 | BH20: =G20*AO20 -> 0 | BI20: =G20*AP20 -> 0 | BJ20: =G20*H20 -> 0
C21: 5354;celková plocha; | G21: 5354
B22: 59 | C22: Zálivka | I22: =SUM(I23:I23) -> 0 | J22: =SUM(J23:J23) -> 0 | K22: =SUM(K23:K23) -> 0 | AS22: =SUM(AJ23:AJ23) -> 0 | AT22: =SUM(AK23:AK23) -> 0 | AU22: =SUM(AL23:AL23) -> 0
A23: 5 | B23: 599142111R00 | C23: Úprava zálivky spár z asfalt. směsi | F23: m | G23: 92 | H23: 0 | I23: =G23*AO23 -> 0 | J23: =G23*AP23 -> 0 | K23: =G23*H23 -> 0 | L23: RTS II / 2018 | Z23: =IF(AQ23="5",BJ23,0) -> 0 | AB23: =IF(AQ23="1",BH23,0) -> 0 | AC23: =IF(AQ23="1",BI23,0) -> 0 | AD23: =IF(AQ23="7",BH23,0) -> 0 | AE23: =IF(AQ23="7",BI23,0) -> 0 | AF23: =IF(AQ23="2",BH23,0) -> 0 | AG23: =IF(AQ23="2",BI23,0) -> 0 | AH23: =IF(AQ23="0",BJ23,0) -> 0 | AJ23: =IF(AN23=0,K23,0) -> 0 | AK23: =IF(AN23=15,K23,0) -> 0 | AL23: =IF(AN23=21,K23,0) -> 0 | AN23: 21 | AO23: =H23*0.262164502164502 -> 0 | AP23: =H23*(1-0.262164502164502) -> 0 | AQ23: 1 | AV23: =AW23+AX23 -> 0 | AW23: =G23*AO23 -> 0 | AX23: =G23*AP23 -> 0 | AY23: 59_ | AZ23: 5_ | BA23: _ | BC23: =AW23+AX23 -> 0 | BD23: =H23/(100-BE23)*100 -> 0 | BE23: 0 | BF23: =23 -> 23 | BH23: =G23*AO23 -> 0 | BI23: =G23*AP23 -> 0 | BJ23: =G23*H23 -> 0
C24: 92;viz odříznutí krytu; | G24: 92
B25: 91 | C25: Doplňující konstrukce a práce na pozemních komunikacích a zpevněných plochách | I25: =SUM(I26:I28) -> 0 | J25: =SUM(J26:J28) -> 0 | K25: =SUM(K26:K28) -> 0 | AS25: =SUM(AJ26:AJ28) -> 0 | AT25: =SUM(AK26:AK28) -> 0 | AU25: =SUM(AL26:AL28) -> 0
A26: 6 | B26: 919741111R00 | C26: Ošetření plochy vodou | F26: m2 | G26: 5354 | H26: 0 | I26: =G26*AO26 -> 0 | J26: =G26*AP26 -> 0 | K26: =G26*H26 -> 0 | L26: RTS II / 2018 | Z26: =IF(AQ26="5",BJ26,0) -> 0 | AB26: =IF(AQ26="1",BH26,0) -> 0 | AC26: =IF(AQ26="1",BI26,0) -> 0 | AD26: =IF(AQ26="7",BH26,0) -> 0 | AE26: =IF(AQ26="7",BI26,0) -> 0 | AF26: =IF(AQ26="2",BH26,0) -> 0 | AG26: =IF(AQ26="2",BI26,0) -> 0 | AH26: =IF(AQ26="0",BJ26,0) -> 0 | AJ26: =IF(AN26=0,K26,0) -> 0 | AK26: =IF(AN26=15,K26,0) -> 0 | AL26: =IF(AN26=21,K26,0) -> 0 | AN26: 21 | AO26: =H26*0.235294117647059 -> 0 | AP26: =H26*(1-0.235294117647059) -> 0 | AQ26: 1 | AV26: =AW26+AX26 -> 0 | AW26: =G26*AO26 -> 0 | AX26: =G26*AP26 -> 0 | AY26: 91_ | AZ26: 9_ | BA26: _ | BC26: =AW26+AX26 -> 0 | BD26: =H26/(100-BE26)*100 -> 0 | BE26: 0 | BF26: =26 -> 26 | BH26: =G26*AO26 -> 0 | BI26: =G26*AP26 -> 0 | BJ26: =G26*H26 -> 0
C27: 5354;celková plocha; | G27: 5354
A28: 7 | B28: 919735111R00 | C28: Řezání stávajícího živičného krytu tl. do 5 cm | F28: m | G28: 92 | H28: 0 | I28: =G28*AO28 -> 0 | J28: =G28*AP28 -> 0 | K28: =G28*H28 -> 0 | L28: RTS II / 2018 | Z28: =IF(AQ28="5",BJ28,0) -> 0 | AB28: =IF(AQ28="1",BH28,0) -> 0 | AC28: =IF(AQ28="1",BI28,0) -> 0 | AD28: =IF(AQ28="7",BH28,0) -> 0 | AE28: =IF(AQ28="7",BI28,0) -> 0 | AF28: =IF(AQ28="2",BH28,0) -> 0 | AG28: =IF(AQ28="2",BI28,0) -> 0 | AH28: =IF(AQ28="0",BJ28,0) -> 0 | AJ28: =IF(AN28=0,K28,0) -> 0 | AK28: =IF(AN28=15,K28,0) -> 0 | AL28: =IF(AN28=21,K28,0) -> 0 | AN28: 21 | AO28: =H28*0.520715630885122 -> 0 | AP28: =H28*(1-0.520715630885122) -> 0 | AQ28: 1 | AV28: =AW28+AX28 -> 0 | AW28: =G28*AO28 -> 0 | AX28: =G28*AP28 -> 0 | AY28: 91_ | AZ28: 9_ | BA28: _ | BC28: =AW28+AX28 -> 0 | BD28: =H28/(100-BE28)*100 -> 0 | BE28: 0 | BF28: =28 -> 28 | BH28: =G28*AO28 -> 0 | BI28: =G28*AP28 -> 0 | BJ28: =G28*H28 -> 0
C29: 3,3+11,3+17,5+4,2+2,5+7,2+18+7+7+14 | G29: 92
C30: ;odříznutí krytu; | G30: 0
B31: 93 | C31: Různé dokončovací konstrukce a práce inženýrských staveb | I31: =SUM(I32:I36) -> 0 | J31: =SUM(J32:J36) -> 0 | K31: =SUM(K32:K36) -> 0 | AS31: =SUM(AJ32:AJ36) -> 0 | AT31: =SUM(AK32:AK36) -> 0 | AU31: =SUM(AL32:AL36) -> 0
A32: 8 | B32: 938909311R00 | C32: Odstranění nánosu z povrchu živičného | F32: m2 | G32: 5354 | H32: 0 | I32: =G32*AO32 -> 0 | J32: =G32*AP32 -> 0 | K32: =G32*H32 -> 0 | L32: RTS II / 2018 | Z32: =IF(AQ32="5",BJ32,0) -> 0 | AB32: =IF(AQ32="1",BH32,0) -> 0 | AC32: =IF(AQ32="1",BI32,0) -> 0 | AD32: =IF(AQ32="7",BH32,0) -> 0 | AE32: =IF(AQ32="7",BI32,0) -> 0 | AF32: =IF(AQ32="2",BH32,0) -> 0 | AG32: =IF(AQ32="2",BI32,0) -> 0 | AH32: =IF(AQ32="0",BJ32,0) -> 0 | AJ32: =IF(AN32=0,K32,0) -> 0 | AK32: =IF(AN32=15,K32,0) -> 0 | AL32: =IF(AN32=21,K32,0) -> 0 | AN32: 21 | AO32: =H32*0 -> 0 | AP32: =H32*(1-0) -> 0 | AQ32: 1 | AV32: =AW32+AX32 -> 0 | AW32: =G32*AO32 -> 0 | AX32: =G32*AP32 -> 0 | AY32: 93_ | AZ32: 9_ | BA32: _ | BC32: =AW32+AX32 -> 0 | BD32: =H32/(100-BE32)*100 -> 0 | BE32: 0 | BF32: =32 -> 32 | BH32: =G32*AO32 -> 0 | BI32: =G32*AP32 -> 0 | BJ32: =G32*H32 -> 0
C33: 5354;celková plocha; | G33: 5354
A34: 9 | B34: 938900011VD | C34: Seříznutí krajnic | F34: m | G34: 1604 | H34: 0 | I34: =G34*AO34 -> 0 | J34: =G34*AP34 -> 0 | K34: =G34*H34 -> 0 | Z34: =IF(AQ34="5",BJ34,0) -> 0 | AB34: =IF(AQ34="1",BH34,0) -> 0 | AC34: =IF(AQ34="1",BI34,0) -> 0 | AD34: =IF(AQ34="7",BH34,0) -> 0 | AE34: =IF(AQ34="7",BI34,0) -> 0 | AF34: =IF(AQ34="2",BH34,0) -> 0 | AG34: =IF(AQ34="2",BI34,0) -> 0 | AH34: =IF(AQ34="0",BJ34,0) -> 0 | AJ34: =IF(AN34=0,K34,0) -> 0 | AK34: =IF(AN34=15,K34,0) -> 0 | AL34: =IF(AN34=21,K34,0) -> 0 | AN34: 21 | AO34: =H34*0 -> 0 | AP34: =H34*(1-0) -> 0 | AQ34: 1 | AV34: =AW34+AX34 -> 0 | AW34: =G34*AO34 -> 0 | AX34: =G34*AP34 -> 0 | AY34: 93_ | AZ34: 9_ | BA34: _ | BC34: =AW34+AX34 -> 0 | BD34: =H34/(100-BE34)*100 -> 0 | BE34: 0 | BF34: =34 -> 34 | BH34: =G34*AO34 -> 0 | BI34: =G34*AP34 -> 0 | BJ34: =G34*H34 -> 0
C35: 802*2;seříznutí krajnic; | G35: 1604
A36: 10 | B36: 938908411R00 | C36: Očištění povrchu krytu | F36: m2 | G36: 5354 | H36: 0 | I36: =G36*AO36 -> 0 | J36: =G36*AP36 -> 0 | K36: =G36*H36 -> 0 | L36: RTS II / 2018 | Z36: =IF(AQ36="5",BJ36,0) -> 0 | AB36: =IF(AQ36="1",BH36,0) -> 0 | AC36: =IF(AQ36="1",BI36,0) -> 0 | AD36: =IF(AQ36="7",BH36,0) -> 0 | AE36: =IF(AQ36="7",BI36,0) -> 0 | AF36: =IF(AQ36="2",BH36,0) -> 0 | AG36: =IF(AQ36="2",BI36,0) -> 0 | AH36: =IF(AQ36="0",BJ36,0) -> 0 | AJ36: =IF(AN36=0,K36,0) -> 0 | AK36: =IF(AN36=15,K36,0) -> 0 | AL36: =IF(AN36=21,K36,0) -> 0 | AN36: 21 | AO36: =H36*0.0712765957446809 -> 0 | AP36: =H36*(1-0.0712765957446809) -> 0 | AQ36: 1 | AV36: =AW36+AX36 -> 0 | AW36: =G36*AO36 -> 0 | AX36: =G36*AP36 -> 0 | AY36: 93_ | AZ36: 9_ | BA36: _ | BC36: =AW36+AX36 -> 0 | BD36: =H36/(100-BE36)*100 -> 0 | BE36: 0 | BF36: =36 -> 36 | BH36: =G36*AO36 -> 0 | BI36: =G36*AP36 -> 0 | BJ36: =G36*H36 -> 0
C37: 5354;celková plocha; | G37: 5354
B38: H22 | C38: Komunikace pozemní a letiště | I38: =SUM(I39:I39) -> 0 | J38: =SUM(J39:J39) -> 0 | K38: =SUM(K39:K39) -> 0 | AS38: =SUM(AJ39:AJ39) -> 0 | AT38: =SUM(AK39:AK39) -> 0 | AU38: =SUM(AL39:AL39) -> 0
A39: 11 | B39: 998225111R00 | C39: Přesun hmot, pozemní komunikace, kryt živičný | F39: t | G39: 558.25074 | H39: 0 | I39: =G39*AO39 -> 0 | J39: =G39*AP39 -> 0 | K39: =G39*H39 -> 0 | L39: RTS II / 2018 | Z39: =IF(AQ39="5",BJ39,0) -> 0 | AB39: =IF(AQ39="1",BH39,0) -> 0 | AC39: =IF(AQ39="1",BI39,0) -> 0 | AD39: =IF(AQ39="7",BH39,0) -> 0 | AE39: =IF(AQ39="7",BI39,0) -> 0 | AF39: =IF(AQ39="2",BH39,0) -> 0 | AG39: =IF(AQ39="2",BI39,0) -> 0 | AH39: =IF(AQ39="0",BJ39,0) -> 0 | AJ39: =IF(AN39=0,K39,0) -> 0 | AK39: =IF(AN39=15,K39,0) -> 0 | AL39: =IF(AN39=21,K39,0) -> 0 | AN39: 21 | AO39: =H39*0 -> 0 | AP39: =H39*(1-0) -> 0 | AQ39: 5 | AV39: =AW39+AX39 -> 0 | AW39: =G39*AO39 -> 0 | AX39: =G39*AP39 -> 0 | AY39: H22_ | AZ39: 9_ | BA39: _ | BC39: =AW39+AX39 -> 0 | BD39: =H39/(100-BE39)*100 -> 0 | BE39: 0 | BF39: =39 -> 39 | BH39: =G39*AO39 -> 0 | BI39: =G39*AP39 -> 0 | BJ39: =G39*H39 -> 0
C40: 558,25074;viz hmotnost; | G40: 558.25074
B41: S | C41: Přesuny sutí | I41: =SUM(I42:I48) -> 0 | J41: =SUM(J42:J48) -> 0 | K41: =SUM(K42:K48) -> 0 | AS41: =SUM(AJ42:AJ48) -> 0 | AT41: =SUM(AK42:AK48) -> 0 | AU41: =SUM(AL42:AL48) -> 0
A42: 12 | B42: 979086213R00 | C42: Nakládání vybouraných hmot na dopravní prostředek | F42: t | G42: 588.99354 | H42: 0 | I42: =G42*AO42 -> 0 | J42: =G42*AP42 -> 0 | K42: =G42*H42 -> 0 | L42: RTS II / 2018 | Z42: =IF(AQ42="5",BJ42,0) -> 0 | AB42: =IF(AQ42="1",BH42,0) -> 0 | AC42: =IF(AQ42="1",BI42,0) -> 0 | AD42: =IF(AQ42="7",BH42,0) -> 0 | AE42: =IF(AQ42="7",BI42,0) -> 0 | AF42: =IF(AQ42="2",BH42,0) -> 0 | AG42: =IF(AQ42="2",BI42,0) -> 0 | AH42: =IF(AQ42="0",BJ42,0) -> 0 | AJ42: =IF(AN42=0,K42,0) -> 0 | AK42: =IF(AN42=15,K42,0) -> 0 | AL42: =IF(AN42=21,K42,0) -> 0 | AN42: 21 | AO42: =H42*0 -> 0 | AP42: =H42*(1-0) -> 0 | AQ42: 5 | AV42: =AW42+AX42 -> 0 | AW42: =G42*AO42 -> 0 | AX42: =G42*AP42 -> 0 | AY42: S_ | AZ42: 9_ | BA42: _ | BC42: =AW42+AX42 -> 0 | BD42: =H42/(100-BE42)*100 -> 0 | BE42: 0 | BF42: =42 -> 42 | BH42: =G42*AO42 -> 0 | BI42: =G42*AP42 -> 0 | BJ42: =G42*H42 -> 0
C43: 588,99354;viz hmotnost; | G43: 588.99354
A44: 13 | B44: 979081111R00 | C44: Odvoz suti a vybour. hmot na skládku do 1 km | F44: t | G44: 588.99354 | H44: 0 | I44: =G44*AO44 -> 0 | J44: =G44*AP44 -> 0 | K44: =G44*H44 -> 0 | L44: RTS II / 2018 | Z44: =IF(AQ44="5",BJ44,0) -> 0 | AB44: =IF(AQ44="1",BH44,0) -> 0 | AC44: =IF(AQ44="1",BI44,0) -> 0 | AD44: =IF(AQ44="7",BH44,0) -> 0 | AE44: =IF(AQ44="7",BI44,0) -> 0 | AF44: =IF(AQ44="2",BH44,0) -> 0 | AG44: =IF(AQ44="2",BI44,0) -> 0 | AH44: =IF(AQ44="0",BJ44,0) -> 0 | AJ44: =IF(AN44=0,K44,0) -> 0 | AK44: =IF(AN44=15,K44,0) -> 0 | AL44: =IF(AN44=21,K44,0) -> 0 | AN44: 21 | AO44: =H44*0 -> 0 | AP44: =H44*(1-0) -> 0 | AQ44: 5 | AV44: =AW44+AX44 -> 0 | AW44: =G44*AO44 -> 0 | AX44: =G44*AP44 -> 0 | AY44: S_ | AZ44: 9_ | BA44: _ | BC44: =AW44+AX44 -> 0 | BD44: =H44/(100-BE44)*100 -> 0 | BE44: 0 | BF44: =44 -> 44 | BH44: =G44*AO44 -> 0 | BI44: =G44*AP44 -> 0 | BJ44: =G44*H44 -> 0
C45: 588,99354;viz hmotnost; | G45: 588.99354
A46: 14 | B46: 979081121R00 | C46: Příplatek k odvozu za každý další 1 km | F46: t | G46: 11190.877 | H46: 0 | I46: =G46*AO46 -> 0 | J46: =G46*AP46 -> 0 | K46: =G46*H46 -> 0 | L46: RTS II / 2018 | Z46: =IF(AQ46="5",BJ46,0) -> 0 | AB46: =IF(AQ46="1",BH46,0) -> 0 | AC46: =IF(AQ46="1",BI46,0) -> 0 | AD46: =IF(AQ46="7",BH46,0) -> 0 | AE46: =IF(AQ46="7",BI46,0) -> 0 | AF46: =IF(AQ46="2",BH46,0) -> 0 | AG46: =IF(AQ46="2",BI46,0) -> 0 | AH46: =IF(AQ46="0",BJ46,0) -> 0 | AJ46: =IF(AN46=0,K46,0) -> 0 | AK46: =IF(AN46=15,K46,0) -> 0 | AL46: =IF(AN46=21,K46,0) -> 0 | AN46: 21 | AO46: =H46*0 -> 0 | AP46: =H46*(1-0) -> 0 | AQ46: 5 | AV46: =AW46+AX46 -> 0 | AW46: =G46*AO46 -> 0 | AX46: =G46*AP46 -> 0 | AY46: S_ | AZ46: 9_ | BA46: _ | BC46: =AW46+AX46 -> 0 | BD46: =H46/(100-BE46)*100 -> 0 | BE46: 0 | BF46: =46 -> 46 | BH46: =G46*AO46 -> 0 | BI46: =G46*AP46 -> 0 | BJ46: =G46*H46 -> 0
C47: 588,99354*19;viz hmotnost - odvoz celkem do 20km; | G47: 11190.877
A48: 15 | B48: 979990112R00 | C48: Poplatek za skládku suti-obal.kam.-asfalt do 30x30 | F48: t | G48: 588.99354 | H48: 0 | I48: =G48*AO48 -> 0 | J48: =G48*AP48 -> 0 | K48: =G48*H48 -> 0 | L48: RTS II / 2018 | Z48: =IF(AQ48="5",BJ48,0) -> 0 | AB48: =IF(AQ48="1",BH48,0) -> 0 | AC48: =IF(AQ48="1",BI48,0) -> 0 | AD48: =IF(AQ48="7",BH48,0) -> 0 | AE48: =IF(AQ48="7",BI48,0) -> 0 | AF48: =IF(AQ48="2",BH48,0) -> 0 | AG48: =IF(AQ48="2",BI48,0) -> 0 | AH48: =IF(AQ48="0",BJ48,0) -> 0 | AJ48: =IF(AN48=0,K48,0) -> 0 | AK48: =IF(AN48=15,K48,0) -> 0 | AL48: =IF(AN48=21,K48,0) -> 0 | AN48: 21 | AO48: =H48*0 -> 0 | AP48: =H48*(1-0) -> 0 | AQ48: 5 | AV48: =AW48+AX48 -> 0 | AW48: =G48*AO48 -> 0 | AX48: =G48*AP48 -> 0 | AY48: S_ | AZ48: 9_ | BA48: _ | BC48: =AW48+AX48 -> 0 | BD48: =H48/(100-BE48)*100 -> 0 | BE48: 0 | BF48: =48 -> 48 | BH48: =G48*AO48 -> 0 | BI48: =G48*AP48 -> 0 | BJ48: =G48*H48 -> 0
C49: 588,99354;viz hmotnost; | G49: 588.99354
B50: 012VD | C50: vrn | I50: =SUM(I51:I55) -> 0 | J50: =SUM(J51:J55) -> 0 | K50: =SUM(K51:K55) -> 0 | AS50: =SUM(AJ51:AJ55) -> 0 | AT50: =SUM(AK51:AK55) -> 0 | AU50: =SUM(AL51:AL55) -> 0
A51: 16 | B51: 012111111VD | C51: Zařízení staveniště | F51: % | G51: 3.25 | H51: 0 | I51: =G51*AO51 -> 0 | J51: =G51*AP51 -> 0 | K51: =G51*H51 -> 0 | Z51: =IF(AQ51="5",BJ51,0) -> 0 | AB51: =IF(AQ51="1",BH51,0) -> 0 | AC51: =IF(AQ51="1",BI51,0) -> 0 | AD51: =IF(AQ51="7",BH51,0) -> 0 | AE51: =IF(AQ51="7",BI51,0) -> 0 | AF51: =IF(AQ51="2",BH51,0) -> 0 | AG51: =IF(AQ51="2",BI51,0) -> 0 | AH51: =IF(AQ51="0",BJ51,0) -> 0 | AJ51: =IF(AN51=0,K51,0) -> 0 | AK51: =IF(AN51=15,K51,0) -> 0 | AL51: =IF(AN51=21,K51,0) -> 0 | AN51: 21 | AO51: =H51*0 -> 0 | AP51: =H51*(1-0) -> 0 | AQ51: 1 | AV51: =AW51+AX51 -> 0 | AW51: =G51*AO51 -> 0 | AX51: =G51*AP51 -> 0 | AY51: 012VD_ | AZ51: 0_ | BA51: _ | BC51: =AW51+AX51 -> 0 | BD51: =H51/(100-BE51)*100 -> 0 | BE51: 0 | BF51: =51 -> 51 | BH51: =G51*AO51 -> 0 | BI51: =G51*AP51 -> 0 | BJ51: =G51*H51 -> 0
A52: 17 | B52: 012111112VD | C52: Územní vlivy | F52: % | G52: 2.35 | H52: 0 | I52: =G52*AO52 -> 0 | J52: =G52*AP52 -> 0 | K52: =G52*H52 -> 0 | Z52: =IF(AQ52="5",BJ52,0) -> 0 | AB52: =IF(AQ52="1",BH52,0) -> 0 | AC52: =IF(AQ52="1",BI52,0) -> 0 | AD52: =IF(AQ52="7",BH52,0) -> 0 | AE52: =IF(AQ52="7",BI52,0) -> 0 | AF52: =IF(AQ52="2",BH52,0) -> 0 | AG52: =IF(AQ52="2",BI52,0) -> 0 | AH52: =IF(AQ52="0",BJ52,0) -> 0 | AJ52: =IF(AN52=0,K52,0) -> 0 | AK52: =IF(AN52=15,K52,0) -> 0 | AL52: =IF(AN52=21,K52,0) -> 0 | AN52: 21 | AO52: =H52*0 -> 0 | AP52: =H52*(1-0) -> 0 | AQ52: 1 | AV52: =AW52+AX52 -> 0 | AW52: =G52*AO52 -> 0 | AX52: =G52*AP52 -> 0 | AY52: 012VD_ | AZ52: 0_ | BA52: _ | BC52: =AW52+AX52 -> 0 | BD52: =H52/(100-BE52)*100 -> 0 | BE52: 0 | BF52: =52 -> 52 | BH52: =G52*AO52 -> 0 | BI52: =G52*AP52 -> 0 | BJ52: =G52*H52 -> 0
A53: 18 | B53: 012111113VD | C53: Provozní vlivy | F53: % | G53: 1.6 | H53: 0 | I53: =G53*AO53 -> 0 | J53: =G53*AP53 -> 0 | K53: =G53*H53 -> 0 | Z53: =IF(AQ53="5",BJ53,0) -> 0 | AB53: =IF(AQ53="1",BH53,0) -> 0 | AC53: =IF(AQ53="1",BI53,0) -> 0 | AD53: =IF(AQ53="7",BH53,0) -> 0 | AE53: =IF(AQ53="7",BI53,0) -> 0 | AF53: =IF(AQ53="2",BH53,0) -> 0 | AG53: =IF(AQ53="2",BI53,0) -> 0 | AH53: =IF(AQ53="0",BJ53,0) -> 0 | AJ53: =IF(AN53=0,K53,0) -> 0 | AK53: =IF(AN53=15,K53,0) -> 0 | AL53: =IF(AN53=21,K53,0) -> 0 | AN53: 21 | AO53: =H53*0 -> 0 | AP53: =H53*(1-0) -> 0 | AQ53: 1 | AV53: =AW53+AX53 -> 0 | AW53: =G53*AO53 -> 0 | AX53: =G53*AP53 -> 0 | AY53: 012VD_ | AZ53: 0_ | BA53: _ | BC53: =AW53+AX53 -> 0 | BD53: =H53/(100-BE53)*100 -> 0 | BE53: 0 | BF53: =53 -> 53 | BH53: =G53*AO53 -> 0 | BI53: =G53*AP53 -> 0 | BJ53: =G53*H53 -> 0
A54: 19 | B54: 012111114VD | C54: Technický dozor investora | F54: % | G54: 0 | H54: 0 | I54: =G54*AO54 -> 0 | J54: =G54*AP54 -> 0 | K54: =G54*H54 -> 0 | Z54: =IF(AQ54="5",BJ54,0) -> 0 | AB54: =IF(AQ54="1",BH54,0) -> 0 | AC54: =IF(AQ54="1",BI54,0) -> 0 | AD54: =IF(AQ54="7",BH54,0) -> 0 | AE54: =IF(AQ54="7",BI54,0) -> 0 | AF54: =IF(AQ54="2",BH54,0) -> 0 | AG54: =IF(AQ54="2",BI54,0) -> 0 | AH54: =IF(AQ54="0",BJ54,0) -> 0 | AJ54: =IF(AN54=0,K54,0) -> 0 | AK54: =IF(AN54=15,K54,0) -> 0 | AL54: =IF(AN54=21,K54,0) -> 0 | AN54: 21 | AO54: =H54*0 -> 0 | AP54: =H54*(1-0) -> 0 | AQ54: 1 | AV54: =AW54+AX54 -> 0 | AW54: =G54*AO54 -> 0 | AX54: =G54*AP54 -> 0 | AY54: 012VD_ | AZ54: 0_ | BA54: _ | BC54: =AW54+AX54 -> 0 | BD54: =H54/(100-BE54)*100 -> 0 | BE54: 0 | BF54: =54 -> 54 | BH54: =G54*AO54 -> 0 | BI54: =G54*AP54 -> 0 | BJ54: =G54*H54 -> 0
A55: 20 | B55: 012111115VD | C55: Koordinační přirážka | F55: % | G55: 1.5 | H55: 0 | I55: =G55*AO55 -> 0 | J55: =G55*AP55 -> 0 | K55: =G55*H55 -> 0 | Z55: =IF(AQ55="5",BJ55,0) -> 0 | AB55: =IF(AQ55="1",BH55,0) -> 0 | AC55: =IF(AQ55="1",BI55,0) -> 0 | AD55: =IF(AQ55="7",BH55,0) -> 0 | AE55: =IF(AQ55="7",BI55,0) -> 0 | AF55: =IF(AQ55="2",BH55,0) -> 0 | AG55: =IF(AQ55="2",BI55,0) -> 0 | AH55: =IF(AQ55="0",BJ55,0) -> 0 | AJ55: =IF(AN55=0,K55,0) -> 0 | AK55: =IF(AN55=15,K55,0) -> 0 | AL55: =IF(AN55=21,K55,0) -> 0 | AN55: 21 | AO55: =H55*0 -> 0 | AP55: =H55*(1-0) -> 0 | AQ55: 1 | AV55: =AW55+AX55 -> 0 | AW55: =G55*AO55 -> 0 | AX55: =G55*AP55 -> 0 | AY55: 012VD_ | AZ55: 0_ | BA55: _ | BC55: =AW55+AX55 -> 0 | BD55: =H55/(100-BE55)*100 -> 0 | BE55: 0 | BF55: =55 -> 55 | BH55: =G55*AO55 -> 0 | BI55: =G55*AP55 -> 0 | BJ55: =G55*H55 -> 0
I56: Celkem: | K56: =K12+K15+K22+K25+K31+K38+K41+K50 -> 0
A57: Poznámka:

Sheet Krycí_list_rozpočtu
C1: Krycí list slepého rozpočtu
A2: Název stavby: | C2: =Stavební_rozpočet!C2 -> Oprava komunikace ulice Husova a Ruských zajatců | E2: Objednatel: | F2: =Stavební_rozpočet!I2 -> Obec Louka u Litvínova | H2: IČ/DIČ:
A4: Druh stavby: | E4: Projektant: | F4: =Stavební_rozpočet!I4 -> CHEMINVEST s.r.o. | H4: IČ/DIČ:
A6: Lokalita: | C6: =Stavební_rozpočet!C6 -> Louka u Litvínova | E6: Zhotovitel: | H6: IČ/DIČ:
A8: Začátek výstavby: | C8: =Stavební_rozpočet!G4 | E8: Konec výstavby: | F8: =Stavební_rozpočet!G6 | H8: Položek: | I8: 20
A10: JKSO: | E10: Zpracoval: | F10: =Stavební_rozpočet!I8 -> Kamila Možná | H10: Datum: | I10: =Stavební_rozpočet!G8 -> 25.02.2019
A12: Rozpočtové náklady v Kč
A13: A | B13: Základní rozpočtové náklady | D13: B | E13: Doplňkové náklady | G13: C | H13: Náklady na umístění stavby (NUS)
A14: HSV | B14: Dodávky | C14: =SUM(Stavební_rozpočet!AB12:AB55) -> 0 | D14: Práce přesčas | F14: 0 | G14: Zařízení staveniště | I14: 0
B15: Montáž | C15: =SUM(Stavební_rozpočet!AC12:AC55) -> 0 | D15: Bez pevné podl. | F15: 0 | G15: Mimostav. doprava | I15: 0
A16: PSV | B16: Dodávky | C16: =SUM(Stavební_rozpočet!AD12:AD55) -> 0 | D16: Kulturní památka | F16: 0 | G16: Územní vlivy | I16: 0
B17: Montáž | C17: =SUM(Stavební_rozpočet!AE12:AE55) -> 0 | G17: Provozní vlivy | I17: 0
A18: "M" | B18: Dodávky | C18: =SUM(Stavební_rozpočet!AF12:AF55) -> 0 | G18: Ostatní | I18: 0
B19: Montáž | C19: =SUM(Stavební_rozpočet!AG12:AG55) -> 0 | G19: NUS z rozpočtu | I19: 0
A20: Ostatní materiál | C20: =SUM(Stavební_rozpočet!AH12:AH55) -> 0
A21: Přesun hmot a sutí | C21: =SUM(Stavební_rozpočet!Z12:Z55) -> 0
A22: ZRN celkem | C22: =SUM(C14:C21) -> 0 | D22: DN celkem | F22: =SUM(F14:F21) -> 0 | G22: NUS celkem | I22: =SUM(I14:I21) -> 0
D23: DN celkem z obj. | F23: 0 | G23: NUS celkem z obj. | I23: 0
G24: ORN celkem
G25: ORN celkem z obj. | I25: 0
A27: Základ 0% | C27: =SUM(Stavební_rozpočet!AJ12:AJ55) -> 0
A28: Základ 15% | C28: =SUM(Stavební_rozpočet!AK12:AK55) -> 0 | D28: DPH 15% | F28: =ROUND(C28*(15/100),2) -> 0 | G28: Celkem bez DPH | I28: =SUM(C27:C29) -> 0
A29: Základ 21% | C29: =SUM(Stavební_rozpočet!AL12:AL55)+(F22+I22+F23+I23+I24+I25) -> 0 | D29: DPH 21% | F29: =ROUND(C29*(21/100),2) -> 0 | G29: Celkem včetně DPH | I29: =SUM(F28:F29)+I28 -> 0
A31: Projektant | D31: Objednatel | G31: Zhotovitel
A35: Datum, razítko a podpis | D35: Datum, razítko a podpis | G35: Datum, razítko a podpis
A36: Poznámka:
